BEGIN:VCALENDAR
VERSION:2.0
PRODID:-//https://www.comitatopodisticobolognese.it///NONSGML kigkonsult.se iCalcreator 2.10.15//
METHOD:PUBLISH
BEGIN:VEVENT
UID:20260424T131543CEST-2766jXumTt@https://www.comitatopodisticobolognese.i
 t/
DTSTAMP:20260424T111543Z
DESCRIPTION:\n https://www.comitatopodisticobolognese.it/component/rsevents
 pro/Eventi/145-camminata-ludico-motoria.html
DTSTART:20181028T090000Z
DTEND:20181028T130000Z
LOCATION:Poliambulatorio san camillo (Via Seminario\, 1\, 40068 Pulce BO\, 
 Italia)
SUMMARY:Camminata Ludico Motoria
URL:https://www.comitatopodisticobolognese.it/component/rseventspro/Eventi/
 145-camminata-ludico-motoria.html
END:VEVENT
END:VCALENDAR
